Workbook

Sheet Funil
B1: DIG · Funil de vendas simples (CRM em planilha)
B2: Veja quantas oportunidades há em cada etapa, quanto valem, quanto devem virar receita e onde os negócios mais se perdem. Development Inovation Growth · material gratuito.
B4: Legenda | C4: Você preenche | D4: Troque só as células em roxo claro: nomes das etapas e probabilidades aqui, e as oportunidades na aba Oportunidades. Os valores que vêm preenchidos são um exemplo.
B6: Etapa do funil | C6: Probabilidade de fechar | D6: Abertas na etapa | E6: Valor em aberto (R$) | F6: Receita prevista (R$) | G6: Chegaram até a etapa | H6: Passaram para a etapa seguinte
B7: Prospecção | C7: 0.1 | D7: =COUNTIFS(Oportunidades!$E$7:$E$206,B7,Oportunidades!$F$7:$F$206,"Aberta") -> 2 | E7: =SUMIFS(Oportunidades!$G$7:$G$206,Oportunidades!$E$7:$E$206,B7,Oportunidades!$F$7:$F$206,"Aberta") -> 20000 | F7: =SUMIFS(Oportunidades!$I$7:$I$206,Oportunidades!$E$7:$E$206,B7,Oportunidades!$F$7:$F$206,"Aberta") -> 2000 | G7: =COUNTIF(Oportunidades!$M$7:$M$206,">=1") -> 10 | H7: =IF(G7>0,G8/G7,"-") -> 0.8
B8: Qualificação | C8: 0.25 | D8: =COUNTIFS(Oportunidades!$E$7:$E$206,B8,Oportunidades!$F$7:$F$206,"Aberta") -> 1 | E8: =SUMIFS(Oportunidades!$G$7:$G$206,Oportunidades!$E$7:$E$206,B8,Oportunidades!$F$7:$F$206,"Aberta") -> 15000 | F8: =SUMIFS(Oportunidades!$I$7:$I$206,Oportunidades!$E$7:$E$206,B8,Oportunidades!$F$7:$F$206,"Aberta") -> 3750 | G8: =COUNTIF(Oportunidades!$M$7:$M$206,">=2") -> 8 | H8: =IF(G8>0,G9/G8,"-") -> 0.75
B9: Proposta | C9: 0.5 | D9: =COUNTIFS(Oportunidades!$E$7:$E$206,B9,Oportunidades!$F$7:$F$206,"Aberta") -> 1 | E9: =SUMIFS(Oportunidades!$G$7:$G$206,Oportunidades!$E$7:$E$206,B9,Oportunidades!$F$7:$F$206,"Aberta") -> 20000 | F9: =SUMIFS(Oportunidades!$I$7:$I$206,Oportunidades!$E$7:$E$206,B9,Oportunidades!$F$7:$F$206,"Aberta") -> 10000 | G9: =COUNTIF(Oportunidades!$M$7:$M$206,">=3") -> 6 | H9: =IF(G9>0,G10/G9,"-") -> 0.66666667
B10: Negociação | C10: 0.7 | D10: =COUNTIFS(Oportunidades!$E$7:$E$206,B10,Oportunidades!$F$7:$F$206,"Aberta") -> 1 | E10: =SUMIFS(Oportunidades!$G$7:$G$206,Oportunidades!$E$7:$E$206,B10,Oportunidades!$F$7:$F$206,"Aberta") -> 25000 | F10: =SUMIFS(Oportunidades!$I$7:$I$206,Oportunidades!$E$7:$E$206,B10,Oportunidades!$F$7:$F$206,"Aberta") -> 17500 | G10: =COUNTIF(Oportunidades!$M$7:$M$206,">=4") -> 4 | H10: =IF(G10>0,G11/G10,"-") -> 0.5
B11: Fechamento | C11: 0.9 | D11: =COUNTIFS(Oportunidades!$E$7:$E$206,B11,Oportunidades!$F$7:$F$206,"Aberta") -> 0 | E11: =SUMIFS(Oportunidades!$G$7:$G$206,Oportunidades!$E$7:$E$206,B11,Oportunidades!$F$7:$F$206,"Aberta") -> 0 | F11: =SUMIFS(Oportunidades!$I$7:$I$206,Oportunidades!$E$7:$E$206,B11,Oportunidades!$F$7:$F$206,"Aberta") -> 0 | G11: =COUNTIF(Oportunidades!$M$7:$M$206,">=5") -> 2 | H11: =IF(G11>0,COUNTIF(Oportunidades!$F$7:$F$206,"Ganha")/G11,"-") -> 1
B12: Total | D12: =SUM(D7:D11) -> 5 | E12: =SUM(E7:E11) -> 80000 | F12: =SUM(F7:F11) -> 33250
B13: Probabilidades de exemplo: ajuste com o histórico da sua empresa. Na última etapa, a coluna H mostra quantas das oportunidades que chegaram ao fechamento foram ganhas.
B15: Resumo | C15: Valor
B16: Oportunidades abertas | C16: =COUNTIF(Oportunidades!$F$7:$F$206,"Aberta") -> 5
B17: Valor em aberto | C17: =SUMIF(Oportunidades!$F$7:$F$206,"Aberta",Oportunidades!$G$7:$G$206) -> 80000
B18: Receita prevista das abertas (valor × probabilidade) | C18: =SUMIF(Oportunidades!$F$7:$F$206,"Aberta",Oportunidades!$I$7:$I$206) -> 33250
B19: Negócios ganhos | C19: =COUNTIF(Oportunidades!$F$7:$F$206,"Ganha") -> 2
B20: Receita ganha | C20: =SUMIF(Oportunidades!$F$7:$F$206,"Ganha",Oportunidades!$G$7:$G$206) -> 29000
B21: Negócios perdidos | C21: =COUNTIF(Oportunidades!$F$7:$F$206,"Perdida") -> 3
B22: Valor perdido | C22: =SUMIF(Oportunidades!$F$7:$F$206,"Perdida",Oportunidades!$G$7:$G$206) -> 29000
B23: Conversão dos negócios encerrados (ganhos ÷ ganhos e perdidos) | C23: =IF(C19+C21>0,C19/(C19+C21),"-") -> 0.4
B24: Valor médio dos negócios ganhos | C24: =IF(C19>0,C20/C19,"-") -> 14500
B26: Atenção
B27: • Receita prevista = valor × probabilidade da etapa. É uma estimativa para planejar, não uma promessa de faturamento.
B28: • A conversão considera a etapa mais avançada que cada oportunidade alcançou. Oportunidades ainda abertas baixam a taxa até serem ganhas ou perdidas.
B29: • Quando ganhar, deixe a etapa em Fechamento e a situação em Ganha. Quando perder, mantenha a etapa em que o negócio parou e mude a situação para Perdida.

Sheet Oportunidades
B1: DIG · Funil de vendas: oportunidades
B2: Uma linha por negociação. A etapa e a situação vêm de listas; probabilidade, receita prevista e número da etapa são calculados. Development Inovation Growth · material gratuito.
B4: Legenda | C4: Você preenche | D4: Preencha as colunas em roxo claro. As colunas cinza são calculadas: não digite nelas. Para apagar os exemplos, selecione B7:G16 e aperte Delete, depois faça o mesmo em J7:L16.
B6: Data de entrada | C6: Cliente ou empresa | D6: Contato (área ou cargo) | E6: Etapa | F6: Situação | G6: Valor estimado (R$) | H6: Probabilidade | I6: Receita prevista (R$) | J6: Próximo passo | K6: Data do próximo passo | L6: Responsável | M6: Nº da etapa
B7: 46300 | C7: Cliente 01 (exemplo) | D7: Compras | E7: Prospecção | F7: Aberta | G7: 8000 | H7: =IF(M7="","",IF(F7="Perdida",0,IF(F7="Ganha",1,INDEX(Funil!$C$7:$C$11,M7)))) -> 0.1 | I7: =IF(OR(G7="",H7=""),"",G7*H7) -> 800 | J7: Ligar para apresentar | K7: 46329 | L7: Vendedor 1 | M7: =IF(E7="","",IFERROR(MATCH(E7,Funil!$B$7:$B$11,0),"")) -> 1
B8: 46302 | C8: Cliente 02 (exemplo) | D8: Diretoria | E8: Prospecção | F8: Aberta | G8: 12000 | H8: =IF(M8="","",IF(F8="Perdida",0,IF(F8="Ganha",1,INDEX(Funil!$C$7:$C$11,M8)))) -> 0.1 | I8: =IF(OR(G8="",H8=""),"",G8*H8) -> 1200 | J8: Enviar apresentação | K8: 46330 | L8: Vendedor 2 | M8: =IF(E8="","",IFERROR(MATCH(E8,Funil!$B$7:$B$11,0),"")) -> 1
B9: 46304 | C9: Cliente 03 (exemplo) | D9: Operações | E9: Qualificação | F9: Aberta | G9: 15000 | H9: =IF(M9="","",IF(F9="Perdida",0,IF(F9="Ganha",1,INDEX(Funil!$C$7:$C$11,M9)))) -> 0.25 | I9: =IF(OR(G9="",H9=""),"",G9*H9) -> 3750 | J9: Reunião de diagnóstico | K9: 46331 | L9: Vendedor 1 | M9: =IF(E9="","",IFERROR(MATCH(E9,Funil!$B$7:$B$11,0),"")) -> 2
B10: 46307 | C10: Cliente 04 (exemplo) | D10: Compras | E10: Qualificação | F10: Perdida | G10: 6000 | H10: =IF(M10="","",IF(F10="Perdida",0,IF(F10="Ganha",1,INDEX(Funil!$C$7:$C$11,M10)))) -> 0 | I10: =IF(OR(G10="",H10=""),"",G10*H10) -> 0 | L10: Vendedor 2 | M10: =IF(E10="","",IFERROR(MATCH(E10,Funil!$B$7:$B$11,0),"")) -> 2
B11: 46309 | C11: Cliente 05 (exemplo) | D11: Financeiro | E11: Proposta | F11: Aberta | G11: 20000 | H11: =IF(M11="","",IF(F11="Perdida",0,IF(F11="Ganha",1,INDEX(Funil!$C$7:$C$11,M11)))) -> 0.5 | I11: =IF(OR(G11="",H11=""),"",G11*H11) -> 10000 | J11: Revisar proposta com o cliente | K11: 46332 | L11: Vendedor 1 | M11: =IF(E11="","",IFERROR(MATCH(E11,Funil!$B$7:$B$11,0),"")) -> 3
B12: 46311 | C12: Cliente 06 (exemplo) | D12: Diretoria | E12: Proposta | F12: Perdida | G12: 9000 | H12: =IF(M12="","",IF(F12="Perdida",0,IF(F12="Ganha",1,INDEX(Funil!$C$7:$C$11,M12)))) -> 0 | I12: =IF(OR(G12="",H12=""),"",G12*H12) -> 0 | L12: Vendedor 2 | M12: =IF(E12="","",IFERROR(MATCH(E12,Funil!$B$7:$B$11,0),"")) -> 3
B13: 46314 | C13: Cliente 07 (exemplo) | D13: Diretoria | E13: Negociação | F13: Aberta | G13: 25000 | H13: =IF(M13="","",IF(F13="Perdida",0,IF(F13="Ganha",1,INDEX(Funil!$C$7:$C$11,M13)))) -> 0.7 | I13: =IF(OR(G13="",H13=""),"",G13*H13) -> 17500 | J13: Reunião de negociação | K13: 46335 | L13: Vendedor 1 | M13: =IF(E13="","",IFERROR(MATCH(E13,Funil!$B$7:$B$11,0),"")) -> 4
B14: 46316 | C14: Cliente 08 (exemplo) | D14: Compras | E14: Fechamento | F14: Ganha | G14: 18000 | H14: =IF(M14="","",IF(F14="Perdida",0,IF(F14="Ganha",1,INDEX(Funil!$C$7:$C$11,M14)))) -> 1 | I14: =IF(OR(G14="",H14=""),"",G14*H14) -> 18000 | J14: Iniciar o atendimento | K14: 46336 | L14: Vendedor 2 | M14: =IF(E14="","",IFERROR(MATCH(E14,Funil!$B$7:$B$11,0),"")) -> 5
B15: 46318 | C15: Cliente 09 (exemplo) | D15: Operações | E15: Fechamento | F15: Ganha | G15: 11000 | H15: =IF(M15="","",IF(F15="Perdida",0,IF(F15="Ganha",1,INDEX(Funil!$C$7:$C$11,M15)))) -> 1 | I15: =IF(OR(G15="",H15=""),"",G15*H15) -> 11000 | J15: Iniciar o atendimento | K15: 46337 | L15: Vendedor 1 | M15: =IF(E15="","",IFERROR(MATCH(E15,Funil!$B$7:$B$11,0),"")) -> 5
B16: 46321 | C16: Cliente 10 (exemplo) | D16: Financeiro | E16: Negociação | F16: Perdida | G16: 14000 | H16: =IF(M16="","",IF(F16="Perdida",0,IF(F16="Ganha",1,INDEX(Funil!$C$7:$C$11,M16)))) -> 0 | I16: =IF(OR(G16="",H16=""),"",G16*H16) -> 0 | L16: Vendedor 2 | M16: =IF(E16="","",IFERROR(MATCH(E16,Funil!$B$7:$B$11,0),"")) -> 4
H17: =IF(M17="","",IF(F17="Perdida",0,IF(F17="Ganha",1,INDEX(Funil!$C$7:$C$11,M17)))) | I17: =IF(OR(G17="",H17=""),"",G17*H17) | M17: =IF(E17="","",IFERROR(MATCH(E17,Funil!$B$7:$B$11,0),""))
H18: =IF(M18="","",IF(F18="Perdida",0,IF(F18="Ganha",1,INDEX(Funil!$C$7:$C$11,M18)))) | I18: =IF(OR(G18="",H18=""),"",G18*H18) | M18: =IF(E18="","",IFERROR(MATCH(E18,Funil!$B$7:$B$11,0),""))
H19: =IF(M19="","",IF(F19="Perdida",0,IF(F19="Ganha",1,INDEX(Funil!$C$7:$C$11,M19)))) | I19: =IF(OR(G19="",H19=""),"",G19*H19) | M19: =IF(E19="","",IFERROR(MATCH(E19,Funil!$B$7:$B$11,0),""))
H20: =IF(M20="","",IF(F20="Perdida",0,IF(F20="Ganha",1,INDEX(Funil!$C$7:$C$11,M20)))) | I20: =IF(OR(G20="",H20=""),"",G20*H20) | M20: =IF(E20="","",IFERROR(MATCH(E20,Funil!$B$7:$B$11,0),""))
H21: =IF(M21="","",IF(F21="Perdida",0,IF(F21="Ganha",1,INDEX(Funil!$C$7:$C$11,M21)))) | I21: =IF(OR(G21="",H21=""),"",G21*H21) | M21: =IF(E21="","",IFERROR(MATCH(E21,Funil!$B$7:$B$11,0),""))
H22: =IF(M22="","",IF(F22="Perdida",0,IF(F22="Ganha",1,INDEX(Funil!$C$7:$C$11,M22)))) | I22: =IF(OR(G22="",H22=""),"",G22*H22) | M22: =IF(E22="","",IFERROR(MATCH(E22,Funil!$B$7:$B$11,0),""))
H23: =IF(M23="","",IF(F23="Perdida",0,IF(F23="Ganha",1,INDEX(Funil!$C$7:$C$11,M23)))) | I23: =IF(OR(G23="",H23=""),"",G23*H23) | M23: =IF(E23="","",IFERROR(MATCH(E23,Funil!$B$7:$B$11,0),""))
H24: =IF(M24="","",IF(F24="Perdida",0,IF(F24="Ganha",1,INDEX(Funil!$C$7:$C$11,M24)))) | I24: =IF(OR(G24="",H24=""),"",G24*H24) | M24: =IF(E24="","",IFERROR(MATCH(E24,Funil!$B$7:$B$11,0),""))
H25: =IF(M25="","",IF(F25="Perdida",0,IF(F25="Ganha",1,INDEX(Funil!$C$7:$C$11,M25)))) | I25: =IF(OR(G25="",H25=""),"",G25*H25) | M25: =IF(E25="","",IFERROR(MATCH(E25,Funil!$B$7:$B$11,0),""))
H26: =IF(M26="","",IF(F26="Perdida",0,IF(F26="Ganha",1,INDEX(Funil!$C$7:$C$11,M26)))) | I26: =IF(OR(G26="",H26=""),"",G26*H26) | M26: =IF(E26="","",IFERROR(MATCH(E26,Funil!$B$7:$B$11,0),""))
H27: =IF(M27="","",IF(F27="Perdida",0,IF(F27="Ganha",1,INDEX(Funil!$C$7:$C$11,M27)))) | I27: =IF(OR(G27="",H27=""),"",G27*H27) | M27: =IF(E27="","",IFERROR(MATCH(E27,Funil!$B$7:$B$11,0),""))
H28: =IF(M28="","",IF(F28="Perdida",0,IF(F28="Ganha",1,INDEX(Funil!$C$7:$C$11,M28)))) | I28: =IF(OR(G28="",H28=""),"",G28*H28) | M28: =IF(E28="","",IFERROR(MATCH(E28,Funil!$B$7:$B$11,0),""))
... H206: =IF(M206="","",IF(F206="Perdida",0,IF(F206="Ganha",1,INDEX(Funil!$C$7:$C$11,M206)))) | I206: =IF(OR(G206="",H206=""),"",G206*H206) | M206: =IF(E206="","",IFERROR(MATCH(E206,Funil!$B$7:$B$11,0),""))

Sheet Como usar
B1: DIG · Como usar o Funil de vendas simples
B3: Para que serve
B4: O funil mostra onde estão as vendas que ainda não aconteceram: quantas oportunidades há em cada etapa, quanto valem, quanto devem virar receita e em que etapa os negócios mais se perdem.
B6: Passo a passo
B7: 1. Na aba Funil, ajuste os nomes das etapas e a probabilidade de fechar de cada uma. Os números que vêm preenchidos são só um ponto de partida.
B8: 2. Na aba Oportunidades, cadastre cada negociação: data, cliente, etapa, situação (Aberta, Ganha ou Perdida) e valor estimado.
B9: 3. Quando o negócio avançar, mude a etapa. Quando ganhar, deixe a etapa em Fechamento e a situação em Ganha. Quando perder, mantenha a etapa em que ele parou e mude a situação para Perdida.
B10: 4. Volte à aba Funil: ela mostra o valor em aberto, a receita prevista e a conversão de cada etapa.
B11: 5. Antes de começar, apague os exemplos da aba Oportunidades: selecione B7:G16 e aperte Delete, depois faça o mesmo em J7:L16.
B13: Como a conta é feita
B14: Receita prevista = valor estimado × probabilidade da etapa (100% se ganha, 0% se perdida).
B15: Chegaram até a etapa = oportunidades cuja etapa mais avançada é essa ou uma posterior.
... B27: Versão 1.0 · novembro de 2026 · Development Inovation Growth
